BEGIN:VCALENDAR
VERSION:2.0
PRODID:-//Louisiana Uniform Local Sales Tax Board - ECPv6.15.12.2//NONSGML v1.0//EN
CALSCALE:GREGORIAN
METHOD:PUBLISH
X-ORIGINAL-URL:https://lulstb.com
X-WR-CALDESC:Events for Louisiana Uniform Local Sales Tax Board
REFRESH-INTERVAL;VALUE=DURATION:PT1H
X-Robots-Tag:noindex
X-PUBLISHED-TTL:PT1H
BEGIN:VTIMEZONE
TZID:UTC
BEGIN:STANDARD
TZOFFSETFROM:+0000
TZOFFSETTO:+0000
TZNAME:UTC
DTSTART:20180101T000000
END:STANDARD
END:VTIMEZONE
BEGIN:VEVENT
DTSTART;TZID=UTC:20190509T100000
DTEND;TZID=UTC:20190509T120000
DTSTAMP:20260419T080006
CREATED:20190506T201050Z
LAST-MODIFIED:20190507T173524Z
UID:22448-1557396000-1557403200@lulstb.com
SUMMARY:10:00 am - LULSTB Board Meeting
DESCRIPTION:
URL:https://lulstb.com/event/lulstb-board-meeting-april-2019-2/
LOCATION:Chateau Saint Denis Hotel\, 751 Second Street\, Natchitoches\, LA\, 71457\, United States
CATEGORIES:Meetings
END:VEVENT
BEGIN:VEVENT
DTSTART;TZID=UTC:20190516T133000
DTEND;TZID=UTC:20190516T150000
DTSTAMP:20260419T080006
CREATED:20190504T213509Z
LAST-MODIFIED:20190506T054608Z
UID:22417-1558013400-1558018800@lulstb.com
SUMMARY:1:30 pm - Notice of Public Hearing
DESCRIPTION:The Louisiana Uniform Local Sales Tax Board will hold a public hearing at 1:30 P.M.\, on Thursday\, May 16\, 2019\, 700 North 10th St\, Baton Rouge\, Louisiana\, Room 3\, for the purpose of receiving written and oral comment from the public concerning the proposed annual budget for fiscal year 2020 as summarized below: \nSUMMARY OF PROPOSED 2020 BUDGET \n\n\n\nFUND\nBEG. BALANCE \n& REVENUE\nEXPENDITURE DESCRIPTION\nEXPENDITURE AMOUNT\nREVENUE OVER EXPENDITURES\n\n\nGeneral Fund\n1\,078\,425\n\n\n\n\n\nRevenue\n5\,000\nPersonal Services – Salaries & Wages\n146\,600\n\n\n\n\n\nPersonal Services – Employee Benefits\n11\,225\n\n\n\n\n\nPurchased Professional & Technical Services\n422\,400\n\n\n\n\n\nPurchased Property Services\n13\,740\n\n\n\n\n\nOther Purchased Services\n35\,460\n\n\n\n\n\nSupplies\n5\,000\n\n\n\n\n\nProperty\n110\,000\n\n\n\nTOTAL\n1\,083\,425\n\n744\,425\n339\,000\n\n\n\nA copy of this information\, the entire proposed budget and additional background materials are available for public inspection from 8:00 A.M. to 4:30 P.M. weekdays at the Office of the Secretary for the Louisiana Uniform Local Sales Tax Board\, 222 St. Louis St.\, Room 404\, Baton Rouge\, LA  70802.
URL:https://lulstb.com/event/notice-of-public-hearing-5-16-2019/
LOCATION:7722 Office Park Blvd\, Baton Rouge\, LA 70809\, LA\, United States
CATEGORIES:Meetings
END:VEVENT
BEGIN:VEVENT
DTSTART;TZID=UTC:20190516T133000
DTEND;TZID=UTC:20190516T150000
DTSTAMP:20260419T080006
CREATED:20190516T022546Z
LAST-MODIFIED:20190516T022546Z
UID:22453-1558013400-1558018800@lulstb.com
SUMMARY:1:30 pm - Board Meeting Agenda
DESCRIPTION:LOUISIANA UNIFORM LOCAL SALES TAX BOARD \nMay 16\, 2019 \n1:30 PM \n-AGENDA- \n PUBLIC COMMENT \n\n Roll Call\n Adoption of the Agenda\n Public Hearing:  LULSTB Budget Proposal FY 2019-20        \n Consider adoption of VDA program documents (J. Theriot)\n Technology Update (Chairman Ruppert)   \n Update on Forms Transfer project (J.A. Cline\, Jr.)\n Legislative Update (M. West)\n Consider revising regular meeting dates/times  (T.Delapasse) \n Travel Authorization- Second Quarter LATA (Exec. Director)   \n\n         OTHER BUSINESS \n         ADJOURNMENT                                                                                                            
URL:https://lulstb.com/event/notice-of-public-hearing-5-16-2019-2/
LOCATION:7722 Office Park Blvd\, Baton Rouge\, LA 70809\, LA\, United States
CATEGORIES:Meetings
END:VEVENT
END:VCALENDAR