BEGIN:VCALENDAR
VERSION:2.0
PRODID:-//Louisiana Uniform Local Sales Tax Board - ECPv6.15.12.2//NONSGML v1.0//EN
CALSCALE:GREGORIAN
METHOD:PUBLISH
X-WR-CALNAME:Louisiana Uniform Local Sales Tax Board
X-ORIGINAL-URL:https://lulstb.com
X-WR-CALDESC:Events for Louisiana Uniform Local Sales Tax Board
REFRESH-INTERVAL;VALUE=DURATION:PT1H
X-Robots-Tag:noindex
X-PUBLISHED-TTL:PT1H
BEGIN:VTIMEZONE
TZID:UTC
BEGIN:STANDARD
TZOFFSETFROM:+0000
TZOFFSETTO:+0000
TZNAME:UTC
DTSTART:20180101T000000
END:STANDARD
END:VTIMEZONE
BEGIN:VEVENT
DTSTART;TZID=UTC:20190128T100000
DTEND;TZID=UTC:20190128T120000
DTSTAMP:20260419T133135
CREATED:20181119T051556Z
LAST-MODIFIED:20190109T110324Z
UID:22100-1548669600-1548676800@lulstb.com
SUMMARY:Hearing for Notice of Intent - Voluntary Disclosure Agreements
DESCRIPTION:
URL:https://lulstb.com/event/committee-meeting/
LOCATION:7722 Office Park Blvd\, Baton Rouge\, LA 70809\, LA\, United States
CATEGORIES:Meetings
END:VEVENT
END:VCALENDAR